BEGIN:VCALENDAR
VERSION:2.0
PRODID:-//Geizkragenmarkt.de - Gutes günstig kaufen - ECPv6.15.20//NONSGML v1.0//EN
CALSCALE:GREGORIAN
METHOD:PUBLISH
X-ORIGINAL-URL:https://www.geizkragenmarkt.de
X-WR-CALDESC:Veranstaltungen für Geizkragenmarkt.de - Gutes günstig kaufen
REFRESH-INTERVAL;VALUE=DURATION:PT1H
X-Robots-Tag:noindex
X-PUBLISHED-TTL:PT1H
BEGIN:VTIMEZONE
TZID:Europe/Berlin
BEGIN:DAYLIGHT
TZOFFSETFROM:+0100
TZOFFSETTO:+0200
TZNAME:CEST
DTSTART:20250330T010000
END:DAYLIGHT
BEGIN:STANDARD
TZOFFSETFROM:+0200
TZOFFSETTO:+0100
TZNAME:CET
DTSTART:20251026T010000
END:STANDARD
BEGIN:DAYLIGHT
TZOFFSETFROM:+0100
TZOFFSETTO:+0200
TZNAME:CEST
DTSTART:20260329T010000
END:DAYLIGHT
BEGIN:STANDARD
TZOFFSETFROM:+0200
TZOFFSETTO:+0100
TZNAME:CET
DTSTART:20261025T010000
END:STANDARD
BEGIN:DAYLIGHT
TZOFFSETFROM:+0100
TZOFFSETTO:+0200
TZNAME:CEST
DTSTART:20270328T010000
END:DAYLIGHT
BEGIN:STANDARD
TZOFFSETFROM:+0200
TZOFFSETTO:+0100
TZNAME:CET
DTSTART:20271031T010000
END:STANDARD
END:VTIMEZONE
BEGIN:VEVENT
DTSTART;TZID=Europe/Berlin:20260410T120000
DTEND;TZID=Europe/Berlin:20260412T180000
DTSTAMP:20260421T135647
CREATED:20260402T174203Z
LAST-MODIFIED:20260402T174342Z
UID:138782-1775822400-1776016800@www.geizkragenmarkt.de
SUMMARY:Der GenussMarkt
DESCRIPTION:Entdecken Sie die Welt der Kulinarik auf unserem GenussMARKT! \nHier treffen sich Feinschmecker\, Hersteller und Genussliebhaber\, um in die Vielfalt von regionalen und internationalen Köstlichkeiten kennen.• Verkostungen: Lassen Sie sich von innovativen Geschmackserlebnissen und traditionellen Spezialitäten üstlichkeiten.• Feinste Delikatessen & Spezialitäten – Von Käse\, über Schokolade\, bis hin zu vielen weiteren Leckereien. • Workshops & Vorträge: Lernen Sie von Experten und erweitern Sie Ihr Wissen über Kulinarik\, Nachhaltigkeit und Ernäetwas. \nKommen Sie vorbei und lassen Sie sich inspirieren! \nSeien Sie dabei und feiern Sie mit uns die Freude am Essen und Trinken! \nWir freuen uns auf Ihren Besuch!
URL:https://www.geizkragenmarkt.de/event/der-genussmarkt/
LOCATION:Rudolf-Diesel-Straße 30
CATEGORIES:Märkte
END:VEVENT
BEGIN:VEVENT
DTSTART;TZID=Europe/Berlin:20260412T100000
DTEND;TZID=Europe/Berlin:20260412T120000
DTSTAMP:20260421T135647
CREATED:20260402T174229Z
LAST-MODIFIED:20260402T174421Z
UID:138790-1775988000-1775995200@www.geizkragenmarkt.de
SUMMARY:Kinder-Kleider Markt
DESCRIPTION:Kinder-Kleider-Markt \nZum 14. mal findet im Guido Heiland Bad ein gesorgt. \nHinweis.Das Guido Heiland Bad stellt nur die Flächen und Räumlichkeiten zur Verfügung und ist organisatorisch nicht für den Kinder Kleider Markt verantwortlich. Fragen zu dem Markt bitte per Mail an folgende Adresse: mail@https://basarlino.de/EI12
URL:https://www.geizkragenmarkt.de/event/kinder-kleider-markt/
LOCATION:Am Volkspark 1\, 45768 Marl\, Germany
CATEGORIES:Märkte
END:VEVENT
BEGIN:VEVENT
DTSTART;TZID=Europe/Berlin:20260412T110000
DTEND;TZID=Europe/Berlin:20260412T150000
DTSTAMP:20260421T135647
CREATED:20260402T174150Z
LAST-MODIFIED:20260402T174428Z
UID:138780-1775991600-1776006000@www.geizkragenmarkt.de
SUMMARY:piratini-markt / Kinderflohmarkt im Weserpark
DESCRIPTION:🏴‍☠️🏴‍☠️🏴‍☠️🏴‍☠️🏴‍☠️🏴‍☠️🏴‍☠️🏴‍☠️🏴‍☠️🏴‍☠️🏴‍☠️🏴‍☠️🏴‍☠️🏴‍☠️🏴‍☠️🏴‍☠️— Bitte teilen\, teilen\, teilen! — \n🤩🤩🤩 piratini-markt – 12. April 2026 – Weserpark 🤩🤩🤩 \nLeinen los für die Schnäppchenjagd! 🏴‍☠️ \nDer nächste piratini-markt\, Deutschlands großer Secondhandmarkt für alles rund ums Kind\, startet am Sonntag\, 12. April 2026 im Bremen – und zwar in allen Gängen des Weserparks! \n🗓 Sonntag\, 12.04.2026🕚 11:00 – 15:00 Uhr🛍 Über 500 Verkaufstische!!! \nHier findet ihr alles\, was kleine Piraten & Piratinnen glücklich macht:👕 Kleidung🧸 Spielzeug👶 Baby- & Kinderausstattung📚 Bücher & vieles mehr \n✨ Exklusiv für Schwangere:Mit Mutterpass + 1 Begleitperson bereits ab 10:30 Uhr Einlass – ganz entspannt vor dem großen Andrang stöWeserparks. \nNachhaltig shoppen\, tolle Schnäppchen sichern und dabei richtig sparen – wir freuen uns auf euch! 💛 \n#piratinimarkt #kinderflohmarkt #weserpark #bremen #secondhand #nachhaltigkeit
URL:https://www.geizkragenmarkt.de/event/piratini-markt-kinderflohmarkt-im-weserpark/
LOCATION:Hans-Bredow-Str. 19\, 28307 Bremen\, Germany
CATEGORIES:Flohmärkte
ORGANIZER;CN="Piratini Markt Bremen":MAILTO:noreply@facebookmail.com
END:VEVENT
BEGIN:VEVENT
DTSTART;TZID=Europe/Berlin:20260412T110000
DTEND;TZID=Europe/Berlin:20260412T160000
DTSTAMP:20260421T135647
CREATED:20260402T174215Z
LAST-MODIFIED:20260402T174435Z
UID:138786-1775991600-1776009600@www.geizkragenmarkt.de
SUMMARY:Flohmarkt... MARKT
DESCRIPTION:Passend zum Frühjahrsputz gibt es die 5. Ausgabe des Flohmarktes auf dem Moritzhof. Wieder kann man Altes neu entdecken\, zwischen Ständen mit Tüddelkram schlendern und im HofCafé kulinarische Pausen einlegen. Nach dem Aufräumen und Ausräumen zu Haus\, auf dem Dachboden\, in der Garage\, unterm Bett\, noch einmal bevor der Sommer kommt\, gibt es eine bunte Vielfalt an den Marktständen. Der Eintritt zum Markt ist frei! \n|Anmeldung bis zum 02. April 2026: markt@nder.
URL:https://www.geizkragenmarkt.de/event/flohmarkt-markt/
LOCATION:Moritzplatz 1\, 39124 Magdeburg-Neustadt\, Germany
CATEGORIES:Flohmärkte
END:VEVENT
BEGIN:VEVENT
DTSTART;TZID=Europe/Berlin:20260412T110000
DTEND;TZID=Europe/Berlin:20260412T170000
DTSTAMP:20260421T135647
CREATED:20260402T174254Z
LAST-MODIFIED:20260402T174445Z
UID:138798-1775991600-1776013200@www.geizkragenmarkt.de
SUMMARY:Markt & Museum
DESCRIPTION:Frühjahrsmarkt mit Ausstellungseröffnung \nGenießen\, entdecken und regional einkaufen: Am Sonntag\, 12. April\, von 11 bis 17 Uhr lädt „Markt & Museum“ wieder zum beliebten Frühjahrsmarkt ins Industriemuseum Lauf ein. Direktvermarkterinnen und Direktvermarkter aus der Region bieten auf dem historischen Gelände ein vielfältiges Angebot an Lebensmitteln\, Getränken und handgefertigten Produkten – neben herzhaften Spezialitäten und süßen Köstlichkeiten\, Brot\, Aufstrichen und Honig umfasst das Sortiment auch zahlreiche nachhaltige Produkte\, welche den Alltag verschöen. \nFamilien finden zahlreiche Mitmachangebote: Kinder können das Museumsgelände bei einer Rallye erkunden\, an Tüftel- und Mitmachstationen aktiv werden oder – bei schönem Wetter – am Wasserspielplatz spielen und verbinden.
URL:https://www.geizkragenmarkt.de/event/markt-museum/
LOCATION:Sichartstraße 5-25\, 91207 Lauf\, Germany
CATEGORIES:Märkte
END:VEVENT
END:VCALENDAR